BEGIN:VCALENDAR
VERSION:2.0
PRODID:-//ADABio, pour le développement de l&#039;agriculture bio en Auvergne Rhône-Alpes - ECPv6.15.18//NONSGML v1.0//EN
CALSCALE:GREGORIAN
METHOD:PUBLISH
X-ORIGINAL-URL:https://adabio.com
X-WR-CALDESC:Évènements pour ADABio, pour le développement de l&#039;agriculture bio en Auvergne Rhône-Alpes
REFRESH-INTERVAL;VALUE=DURATION:PT1H
X-Robots-Tag:noindex
X-PUBLISHED-TTL:PT1H
BEGIN:VTIMEZONE
TZID:Europe/Helsinki
BEGIN:DAYLIGHT
TZOFFSETFROM:+0200
TZOFFSETTO:+0300
TZNAME:EEST
DTSTART:20230326T010000
END:DAYLIGHT
BEGIN:STANDARD
TZOFFSETFROM:+0300
TZOFFSETTO:+0200
TZNAME:EET
DTSTART:20231029T010000
END:STANDARD
BEGIN:DAYLIGHT
TZOFFSETFROM:+0200
TZOFFSETTO:+0300
TZNAME:EEST
DTSTART:20240331T010000
END:DAYLIGHT
BEGIN:STANDARD
TZOFFSETFROM:+0300
TZOFFSETTO:+0200
TZNAME:EET
DTSTART:20241027T010000
END:STANDARD
BEGIN:DAYLIGHT
TZOFFSETFROM:+0200
TZOFFSETTO:+0300
TZNAME:EEST
DTSTART:20250330T010000
END:DAYLIGHT
BEGIN:STANDARD
TZOFFSETFROM:+0300
TZOFFSETTO:+0200
TZNAME:EET
DTSTART:20251026T010000
END:STANDARD
END:VTIMEZONE
BEGIN:VEVENT
DTSTART;TZID=Europe/Helsinki:20240408T090000
DTEND;TZID=Europe/Helsinki:20240409T170000
DTSTAMP:20260419T160852
CREATED:20240213T093751Z
LAST-MODIFIED:20240213T095358Z
UID:3720-1712566800-1712682000@adabio.com
SUMMARY:FORMATION  : LES PLANTES BIO INDICATRICES
DESCRIPTION:FORMATION  : LES PLANTES BIO INDICATRICES \n \nOBJECTIFS :  \n\nIdentifier les principales herbes simples\, connaître leurs vertus et leur utilisation en agronomie\nEtre capable d’appliquer la méthode seul de retour chez moi\nDistinguer la présence de plantes liée à mes pratiques et celle liée au climat\nSavoir identifier les plantes témoignant d’un équilibre sur la parcelle\n\nPUBLIC CIBLE : Porteurs.euses de projet et maraîchers.ères de la zone de l’Arc Alpin et départements limitrophes en bio et en conventionnel \nMODALITES PEDAGOGIQUES : Apports théoriques en salle\, mise en pratique des exercices\, diagnostic sur le terrain et échanges entre participants \nINTERVENANT : Rémi GENESTON\, ABF Biosphère \nCONTACT : Céline VENOT – technique.pv7374@adabio.com – 06 12 92 10 42
URL:https://adabio.com/evenement/formation-les-plantes-bio-indicatrices/
END:VEVENT
BEGIN:VEVENT
DTSTART;TZID=Europe/Helsinki:20240408T090000
DTEND;TZID=Europe/Helsinki:20240409T170000
DTSTAMP:20260419T160852
CREATED:20240213T142814Z
LAST-MODIFIED:20240213T142821Z
UID:3770-1712566800-1712682000@adabio.com
SUMMARY:FORMATION : JE M'INITIE A LA COMMUNICATION ANIMALE
DESCRIPTION:FORMATION : JE M’INITIE A LA COMMUNICATION ANIMALE \n \n\nUtiliser de la technique\, bienfaits et applications.\nConnaître son canal de représentation\nRessentir des émotions dans son corps.\nConnaître le protocole de communication animale.\nSavoir utiliser la communication animale.\nIntroduction aux outils de la PNL (programmation neuro linguistique) pour des communications plus claires\nConnaître les pratiques de communications animales en\n\n\nPUBLIC CIBLE : Eleveurs.euses et éleveuses \, salariés.es agricoles et porteurs.euses de projet \nMODALITES PEDAGOGIQUES : Apports théoriques en salle\, échanges entre participants\, \nINTERVENANT : Maureen GELIN\, intervenante spécialisée een communication animale en élevage. \nCONTACT :Eve GENTIL – technique.pa7374@adabio.com – 06 21 69 09 80
URL:https://adabio.com/evenement/3770/
END:VEVENT
BEGIN:VEVENT
DTSTART;TZID=Europe/Helsinki:20240409T090000
DTEND;TZID=Europe/Helsinki:20240409T170000
DTSTAMP:20260419T160852
CREATED:20240213T111031Z
LAST-MODIFIED:20240213T111044Z
UID:3755-1712653200-1712682000@adabio.com
SUMMARY:FORMATION :ADAPTER SON SYSTEME D'ELEVAGE AU CHANGEMENT CLIMATIQUE (01)
DESCRIPTION:FORMATION : ADAPTER SON SYSTEME D’ELEVAGE AU CHANGEMENT CLIMATIQUE (01) \n \nOBJECTIFS :  \n\nComprendre l’évolution du climat et les prévisions pour les années à venir\nCo-construire l’adaptation de son système d’élevage en fonction de ses objectifs Réfléchir autour du système fourrager : conduite des rations\, pâturage…\nAdapter ses prairies temporaires et identifier les autres ressources fourragères (maïs vert\, moha\, teff…)\nConnaitre la flore des prairies naturelles : que veut-elle dire ?\nAdapter ses pratiques pour favoriser une flore diversifiée.\nOptimiser la gestion de l’eau : ombre\, abreuvement des animaux…\n\nPUBLIC CIBLE : Porteur.euse.s de projet\, agriculteur.rice.s et salarié.e.s agricoles en élevage bovin : laitier  \nMODALITES PEDAGOGIQUES : Apports théoriques\, échanges entre participants\, visite d’élevage (dans l’Ain)\, refléxions sur son propre système grâce à une méthodologie partagée \nINTERVENANT : Eve GENTIL\, conseillère polyculture élevage à l’ADABio \nCONTACT : Margaux THIRARD – technique.pa01@adabio.com – 06 21 69 09 71
URL:https://adabio.com/evenement/formation-adapter-son-systeme-delevage-au-changement-climatique-01/
END:VEVENT
END:VCALENDAR