BEGIN:VCALENDAR
VERSION:2.0
PRODID:-//ADABio, pour le développement de l&#039;agriculture bio en Auvergne Rhône-Alpes - ECPv6.15.18//NONSGML v1.0//EN
CALSCALE:GREGORIAN
METHOD:PUBLISH
X-WR-CALNAME:ADABio, pour le développement de l&#039;agriculture bio en Auvergne Rhône-Alpes
X-ORIGINAL-URL:https://adabio.com
X-WR-CALDESC:Évènements pour ADABio, pour le développement de l&#039;agriculture bio en Auvergne Rhône-Alpes
REFRESH-INTERVAL;VALUE=DURATION:PT1H
X-Robots-Tag:noindex
X-PUBLISHED-TTL:PT1H
BEGIN:VTIMEZONE
TZID:Europe/Helsinki
BEGIN:DAYLIGHT
TZOFFSETFROM:+0200
TZOFFSETTO:+0300
TZNAME:EEST
DTSTART:20240331T010000
END:DAYLIGHT
BEGIN:STANDARD
TZOFFSETFROM:+0300
TZOFFSETTO:+0200
TZNAME:EET
DTSTART:20241027T010000
END:STANDARD
BEGIN:DAYLIGHT
TZOFFSETFROM:+0200
TZOFFSETTO:+0300
TZNAME:EEST
DTSTART:20250330T010000
END:DAYLIGHT
BEGIN:STANDARD
TZOFFSETFROM:+0300
TZOFFSETTO:+0200
TZNAME:EET
DTSTART:20251026T010000
END:STANDARD
BEGIN:DAYLIGHT
TZOFFSETFROM:+0200
TZOFFSETTO:+0300
TZNAME:EEST
DTSTART:20260329T010000
END:DAYLIGHT
BEGIN:STANDARD
TZOFFSETFROM:+0300
TZOFFSETTO:+0200
TZNAME:EET
DTSTART:20261025T010000
END:STANDARD
END:VTIMEZONE
BEGIN:VEVENT
DTSTART;VALUE=DATE:20250927
DTEND;VALUE=DATE:20251027
DTSTAMP:20260424T003609
CREATED:20250925T062632Z
LAST-MODIFIED:20251006T132550Z
UID:4306-1758931200-1761523199@adabio.com
SUMMARY:MANGER BIO ET LOCAL\, C'EST L'IDEAL !
DESCRIPTION:L’ADABio participe à la nouvelle édition de “Manger Bio et Local\, c’est l’idéal” ! A cette occasion\, les producteurs et productrices\, artisans et artisanes\, collectivités\, associations ou encore restaurations collectives bio proposent des animations du 27 septembre au 26 octobre 2025 sur l’ensemble de l’Ain\, l’Isère\, la Savoie et la Haute-Savoie. Des portes ouvertes au jeu de piste\, en passant par des soirées apéros concerts ou encore des dégustations de produits\, il y en aura pour tous les goûts !\nPour trouver les animations près de chez vous\, consultez les programmes sur le site internet www.bioetlocal.org rubrique “les animations dans vos régions”. \n  \nTous les RDV en Isère à retrouver ICI ! \nTous les RDV dans l’Ain à retrouver ICI ! \nTous les RDV en Savoie et Haute-Savoie à retrouver ICI !
URL:https://adabio.com/evenement/manger-bio-et-local-cest-lideal/
ATTACH;FMTTYPE=image/png:https://adabio.com/wp-content/uploads/2025/09/Visuel-RS-MBEL-2025-AURA-1.png
ORGANIZER;CN="ADABio":MAILTO:assistante@adabio.com
END:VEVENT
END:VCALENDAR