BEGIN:VCALENDAR
VERSION:2.0
PRODID:-//ADABio, pour le développement de l&#039;agriculture bio en Auvergne Rhône-Alpes - ECPv6.15.18//NONSGML v1.0//EN
CALSCALE:GREGORIAN
METHOD:PUBLISH
X-ORIGINAL-URL:https://adabio.com
X-WR-CALDESC:Évènements pour ADABio, pour le développement de l&#039;agriculture bio en Auvergne Rhône-Alpes
REFRESH-INTERVAL;VALUE=DURATION:PT1H
X-Robots-Tag:noindex
X-PUBLISHED-TTL:PT1H
BEGIN:VTIMEZONE
TZID:Europe/Helsinki
BEGIN:DAYLIGHT
TZOFFSETFROM:+0200
TZOFFSETTO:+0300
TZNAME:EEST
DTSTART:20240331T010000
END:DAYLIGHT
BEGIN:STANDARD
TZOFFSETFROM:+0300
TZOFFSETTO:+0200
TZNAME:EET
DTSTART:20241027T010000
END:STANDARD
BEGIN:DAYLIGHT
TZOFFSETFROM:+0200
TZOFFSETTO:+0300
TZNAME:EEST
DTSTART:20250330T010000
END:DAYLIGHT
BEGIN:STANDARD
TZOFFSETFROM:+0300
TZOFFSETTO:+0200
TZNAME:EET
DTSTART:20251026T010000
END:STANDARD
BEGIN:DAYLIGHT
TZOFFSETFROM:+0200
TZOFFSETTO:+0300
TZNAME:EEST
DTSTART:20260329T010000
END:DAYLIGHT
BEGIN:STANDARD
TZOFFSETFROM:+0300
TZOFFSETTO:+0200
TZNAME:EET
DTSTART:20261025T010000
END:STANDARD
END:VTIMEZONE
BEGIN:VEVENT
DTSTART;TZID=Europe/Helsinki:20251112T080000
DTEND;TZID=Europe/Helsinki:20251113T170000
DTSTAMP:20260423T232103
CREATED:20251021T095539Z
LAST-MODIFIED:20251021T095754Z
UID:4470-1762934400-1763053200@adabio.com
SUMMARY:[FORMATION] DÉFINIR DES PRATIQUES DE CONDUITE ET D'ENTRETIEN FAVORABLES À LA DIVERSITÉ\, LA PRODUCTIVITÉ ET LA PÉRENNITÉ DE MES PRAIRIES
DESCRIPTION:[FORMATION] DÉFINIR DES PRATIQUES DE CONDUITE ET D’ENTRETIEN FAVORABLES À LA DIVERSITÉ\, LA PRODUCTIVITÉ ET LA PÉRENNITÉ DE MES PRAIRIES \nDate : Mercredi 12 novembre 2025 \nLieu : à définir (01) \nObjectifs : \n\nComprendre le fonctionnement général de l’écosystème prairial et ses dynamiques d’évolutions\nApprécier l’état général d’une prairie support à l’aide d’observations et de mesures de terrain\nIdentifier les principaux risques de dégradation d’une prairie\nDéterminer des pratiques de conduite et d’entretien favorables à la productivité et à la pérénnité de cette prairie au regard du contexte pédoclimatique\n\nIntervenant : Maxime VIAL\, agronome spécialisé en gestion des prairies \nInscriptions : ICI \nPlus d’informations auprès de Luna TERRIER : 06 26 54 31 71 / technique.pa38@adabio.com  \nRETROUVER NOTRE CATALOGUE COMPLET : ICI
URL:https://adabio.com/evenement/formation-utiliser-les-fleurs-de-bach-en-elevage/
LOCATION:Ain (01)
CATEGORIES:FORMATIONS
ATTACH;FMTTYPE=image/jpeg:https://adabio.com/wp-content/uploads/2025/10/Prairie_agro-scaled.jpg
ORGANIZER;CN="ADABio":MAILTO:assistante@adabio.com
END:VEVENT
BEGIN:VEVENT
DTSTART;TZID=Europe/Helsinki:20251112T160000
DTEND;TZID=Europe/Helsinki:20251112T193000
DTSTAMP:20260423T232103
CREATED:20251104T135605Z
LAST-MODIFIED:20251104T135605Z
UID:4562-1762963200-1762975800@adabio.com
SUMMARY:[FERME OUVERTE] CONCILIER PRIX ACCESSIBLES ET JUSTE RÉMUNÉRATION DES PAYSAN.NES
DESCRIPTION:[FERME OUVERTE] CONCILIER PRIX ACCESSIBLES ET JUSTE RÉMUNÉRATION DES PAYSAN.NES  \nComment garantir la viabilité des fermes tout en produisant une alimentation durable accessible à tous et toutes ?\n Le 12 novembre 2025\, 16h – 19h30\n PROGRAMME :→ 16h : Rdv aux Jardins du Grand Arc : Chemin des Closets\, 73460 Grésy-sur-Isère→ 17h : Rdv à la Salle de mairie : Fort d’Aiton\, 73220 Aiton→ Apéro partagé\n\n AU PROGRAMME :Lors de cette visite\, Nicolas\, maraîcher installé en agriculture biologique\, Stéphanie\, coordinatrice au centre socioculturel « Les 3 p’tits cailloux » et le collectif de l’AMAP du Grand Arc nous partageront leurs objectifs et questionnements :\n Comment garantir une activité viable et vivable pour un maraîcher tout en fournissant des légumes accessibles économiquement aux consommateur.ices\, quel que soit leur budget ?\nCette rencontre sera l’occasion d’échanger sur la spécificité de l’AMAP avec ses paniers solidaires\, et les solidarités qui peuvent s’y exercer : partage de récoltes au sein d’une AMAP\, tarification de soutien pour le maraîcher\, paniers solidaires tiers-financés en partenariat avec le centre socioculturel avec le soutien de la CAF\, aide sur la ferme…\nAutant de solutions qui s’imaginent et s’expérimentent sur ce territoire !\n\n Inscription : https://framaforms.org/visite-de-ferme-et-temoignages-aux…\nOrganisé par : AMAP du Grand Arc\, Centre socioculturel les 3 p’tits cailloux\, ADABIO\, ADDEAR73\, AFOCG des Alpes\, Solidarité Paysan.nes 73\, INPACT 73\, Réseau AMAP AuRA\nLe flyer et le plan : http://amap-aura.org/…/visite-de-ferme-73-prix…\n ATTENTION : Bien regarder le plan d’accès du flyer !
URL:https://adabio.com/evenement/ferme-ouverte-concilier-prix-accessibles-et-juste-remuneration-des-paysan-nes/
CATEGORIES:FERME OUVERTE
ATTACH;FMTTYPE=image/jpeg:https://adabio.com/wp-content/uploads/2025/11/571566092_1219242703571078_9085795935976988267_n-1.jpg
ORGANIZER;CN="ADABio":MAILTO:assistante@adabio.com
END:VEVENT
END:VCALENDAR