BEGIN:VCALENDAR
VERSION:2.0
PRODID:-//ADABio, pour le développement de l&#039;agriculture bio en Auvergne Rhône-Alpes - ECPv6.15.18//NONSGML v1.0//EN
CALSCALE:GREGORIAN
METHOD:PUBLISH
X-ORIGINAL-URL:https://adabio.com
X-WR-CALDESC:Évènements pour ADABio, pour le développement de l&#039;agriculture bio en Auvergne Rhône-Alpes
REFRESH-INTERVAL;VALUE=DURATION:PT1H
X-Robots-Tag:noindex
X-PUBLISHED-TTL:PT1H
BEGIN:VTIMEZONE
TZID:Europe/Helsinki
BEGIN:DAYLIGHT
TZOFFSETFROM:+0200
TZOFFSETTO:+0300
TZNAME:EEST
DTSTART:20240331T010000
END:DAYLIGHT
BEGIN:STANDARD
TZOFFSETFROM:+0300
TZOFFSETTO:+0200
TZNAME:EET
DTSTART:20241027T010000
END:STANDARD
BEGIN:DAYLIGHT
TZOFFSETFROM:+0200
TZOFFSETTO:+0300
TZNAME:EEST
DTSTART:20250330T010000
END:DAYLIGHT
BEGIN:STANDARD
TZOFFSETFROM:+0300
TZOFFSETTO:+0200
TZNAME:EET
DTSTART:20251026T010000
END:STANDARD
BEGIN:DAYLIGHT
TZOFFSETFROM:+0200
TZOFFSETTO:+0300
TZNAME:EEST
DTSTART:20260329T010000
END:DAYLIGHT
BEGIN:STANDARD
TZOFFSETFROM:+0300
TZOFFSETTO:+0200
TZNAME:EET
DTSTART:20261025T010000
END:STANDARD
END:VTIMEZONE
BEGIN:VEVENT
DTSTART;TZID=Europe/Helsinki:20251126T080000
DTEND;TZID=Europe/Helsinki:20251127T170000
DTSTAMP:20260419T185956
CREATED:20251021T100347Z
LAST-MODIFIED:20251021T100347Z
UID:4482-1764144000-1764262800@adabio.com
SUMMARY:[FORMATION] SANTÉ PAR LE TOUCHER EN ÉLEVAGE
DESCRIPTION:[FORMATION] SANTÉ PAR LE TOUCHER EN ÉLEVAGE \nDates : mercredi 26 et jeudi 27 novembre 2025\nlundi 12 et mardi 13 janvier 2026 \nLieu : Flumet (73) \nObjectifs : \n\nApprendre à pratiquer la kinésiologie et le rééquilibrage des méridiens en utilisant le toucher sur les animaux.\nApprofondir sa pratique de la kinésiologie animalère.\n\nInscriptions : ICI \nIntervenant : Isabelle FRANZZETI\, vétérinaire spécialisée en kinésiologie et autres médecines alternatives \nPlus d’informations auprès d’Eve GENTIL : 06 26 54 31 71 / technique.pa38@adabio.com \nRETROUVER NOTRE CATALOGUE COMPLET : ICI
URL:https://adabio.com/evenement/formation-sante-par-le-toucher-en-elevage/
LOCATION:Savoie (73)
CATEGORIES:FORMATIONS
ATTACH;FMTTYPE=image/webp:https://adabio.com/wp-content/uploads/2025/10/Sante-par-le-toucher.webp
END:VEVENT
END:VCALENDAR