BEGIN:VCALENDAR
VERSION:2.0
PRODID:-//ADABio, pour le développement de l&#039;agriculture bio en Auvergne Rhône-Alpes - ECPv6.15.18//NONSGML v1.0//EN
CALSCALE:GREGORIAN
METHOD:PUBLISH
X-ORIGINAL-URL:https://adabio.com
X-WR-CALDESC:Évènements pour ADABio, pour le développement de l&#039;agriculture bio en Auvergne Rhône-Alpes
REFRESH-INTERVAL;VALUE=DURATION:PT1H
X-Robots-Tag:noindex
X-PUBLISHED-TTL:PT1H
BEGIN:VTIMEZONE
TZID:Europe/Helsinki
BEGIN:DAYLIGHT
TZOFFSETFROM:+0200
TZOFFSETTO:+0300
TZNAME:EEST
DTSTART:20240331T010000
END:DAYLIGHT
BEGIN:STANDARD
TZOFFSETFROM:+0300
TZOFFSETTO:+0200
TZNAME:EET
DTSTART:20241027T010000
END:STANDARD
BEGIN:DAYLIGHT
TZOFFSETFROM:+0200
TZOFFSETTO:+0300
TZNAME:EEST
DTSTART:20250330T010000
END:DAYLIGHT
BEGIN:STANDARD
TZOFFSETFROM:+0300
TZOFFSETTO:+0200
TZNAME:EET
DTSTART:20251026T010000
END:STANDARD
BEGIN:DAYLIGHT
TZOFFSETFROM:+0200
TZOFFSETTO:+0300
TZNAME:EEST
DTSTART:20260329T010000
END:DAYLIGHT
BEGIN:STANDARD
TZOFFSETFROM:+0300
TZOFFSETTO:+0200
TZNAME:EET
DTSTART:20261025T010000
END:STANDARD
END:VTIMEZONE
BEGIN:VEVENT
DTSTART;TZID=Europe/Helsinki:20251201T080000
DTEND;TZID=Europe/Helsinki:20251202T170000
DTSTAMP:20260419T174127
CREATED:20251021T100701Z
LAST-MODIFIED:20251021T101439Z
UID:4487-1764576000-1764694800@adabio.com
SUMMARY:[FORMATION] DÉVELOPPER SON RESSENTI EN ACUPUNCTURE
DESCRIPTION:[FORMATION] DÉVELOPPER SON RESSENTI EN ACUPUNCTURE \nDates : lundi 1er et mardi 2 décembre 2025 \nLieu : La Roche sur Foron ou Bonneville (74) \nObjectifs : \n\nDévelopper sa capacité à diagnostiquer un problème sur l’animal\nSavoir utiliser son ressenti dans la pratique de l’acupuncture\nRéviser les points de base et acquérir de nouveaux points utiles pour traiter les pathologies courantes en élevage\n\nInscriptions : ICI \nIntervenant : Nayla CHERINO PARRA\, Vétérinaire spécialisée en acupuncture\, ostéopathie et résolution émotionnelle \nPlus d’informations auprès d’Eve GENTIL : 06 21 69 09 80 / technique.pa7374@adabio.com \nRETROUVER NOTRE CATALOGUE COMPLET : ICI
URL:https://adabio.com/evenement/formation-developper-son-ressenti-en-acupuncture/
LOCATION:Haute-Savoie (74)
CATEGORIES:FORMATIONS
ATTACH;FMTTYPE=image/jpeg:https://adabio.com/wp-content/uploads/2025/10/Acupuncture-scaled.jpg
END:VEVENT
END:VCALENDAR