BEGIN:VCALENDAR
VERSION:2.0
PRODID:-//ADABio, pour le développement de l&#039;agriculture bio en Auvergne Rhône-Alpes - ECPv6.15.18//NONSGML v1.0//EN
CALSCALE:GREGORIAN
METHOD:PUBLISH
X-WR-CALNAME:ADABio, pour le développement de l&#039;agriculture bio en Auvergne Rhône-Alpes
X-ORIGINAL-URL:https://adabio.com
X-WR-CALDESC:Évènements pour ADABio, pour le développement de l&#039;agriculture bio en Auvergne Rhône-Alpes
REFRESH-INTERVAL;VALUE=DURATION:PT1H
X-Robots-Tag:noindex
X-PUBLISHED-TTL:PT1H
BEGIN:VTIMEZONE
TZID:Europe/Helsinki
BEGIN:DAYLIGHT
TZOFFSETFROM:+0200
TZOFFSETTO:+0300
TZNAME:EEST
DTSTART:20240331T010000
END:DAYLIGHT
BEGIN:STANDARD
TZOFFSETFROM:+0300
TZOFFSETTO:+0200
TZNAME:EET
DTSTART:20241027T010000
END:STANDARD
BEGIN:DAYLIGHT
TZOFFSETFROM:+0200
TZOFFSETTO:+0300
TZNAME:EEST
DTSTART:20250330T010000
END:DAYLIGHT
BEGIN:STANDARD
TZOFFSETFROM:+0300
TZOFFSETTO:+0200
TZNAME:EET
DTSTART:20251026T010000
END:STANDARD
BEGIN:DAYLIGHT
TZOFFSETFROM:+0200
TZOFFSETTO:+0300
TZNAME:EEST
DTSTART:20260329T010000
END:DAYLIGHT
BEGIN:STANDARD
TZOFFSETFROM:+0300
TZOFFSETTO:+0200
TZNAME:EET
DTSTART:20261025T010000
END:STANDARD
END:VTIMEZONE
BEGIN:VEVENT
DTSTART;TZID=Europe/Helsinki:20251208T080000
DTEND;TZID=Europe/Helsinki:20251208T170000
DTSTAMP:20260419T173929
CREATED:20251021T085533Z
LAST-MODIFIED:20251021T085533Z
UID:4429-1765180800-1765213200@adabio.com
SUMMARY:[FORMATION] ITINERAIRE TECHNIQUE DES SOLANACEES
DESCRIPTION:[FORMATION] ITINERAIRE TECHNIQUE DES SOLANACEES \nDate :  Lundi 8 décembre 2025 \nLieu : La Tour du Pin (38) \nObjectifs : \n\nConnaitre l’itinéraire technique des solanacées en Agriculture Biologique\nSavoir gérer le semis en fonction du matériel à disposition\nEtre en mesure de gérer les principaux enjeux sanitaires et de la maitrise des adventices en bio\nEtre en mesure de bien conserver et stocker\n\nIntervenant : Laurent CAMOIN (conseiller indépendant) \nInscriptions : ICI \nPlus d’information auprès de Céline LOPEZ : 06 21 69 09 97 / technique.pv3801@adabio.com \n  \nRETROUVER NOTRE CATALOGUE COMPLET : ICI
URL:https://adabio.com/evenement/formation-itineraire-technique-des-solanacees/
CATEGORIES:FORMATIONS
ATTACH;FMTTYPE=image/jpeg:https://adabio.com/wp-content/uploads/2025/10/SOLANACEES.jpg
ORGANIZER;CN="ADABio":MAILTO:assistante@adabio.com
END:VEVENT
BEGIN:VEVENT
DTSTART;TZID=Europe/Helsinki:20251208T090000
DTEND;TZID=Europe/Helsinki:20251208T170000
DTSTAMP:20260419T173929
CREATED:20251006T134357Z
LAST-MODIFIED:20251006T134711Z
UID:4334-1765184400-1765213200@adabio.com
SUMMARY:[FORMATION] CONSTRUIRE OU REQUESTIONNER SA STRATÉGIE COMMERCIALE POUR DÉVELOPPER ET OPTIMISER SES VENTES EN CIRCUITS COURTS
DESCRIPTION:[FORMATION] CONSTRUIRE OU REQUESTIONNER SA STRATÉGIE COMMERCIALE POUR DÉVELOPPER ET OPTIMISER SES VENTES EN CIRCUITS COURTS \nDate :  Lundi 8 décembre 2025 \nLieu : : Dullin (73) \nObjectifs : \n\nÊtre capable de réaliser un état des lieux du territoire\nMaîtriser les grandes étapes de la construction de sa stratégie commerciale\nSavoir construire son projet commercial\, adapté à soi\, sa ferme et au potentiel du territoire\nIdentifier sa clientèle cible\nSavoir identifier les freins et opportunités au développement commercial de sa ferme\nÊtre capable d’élaborer un plan d’actions commerciales pour optimiser ses ventes\n\nIntervenant : Solenn BRIOUDE (Bio 63) \nInscriptions : ICI \nPlus d’information auprès de Magali PAUSIN : animation.dessavoie@adabio.com / 06 26 54 41 11 \nRETROUVER NOTRE CATALOGUE COMPLET : ICI
URL:https://adabio.com/evenement/formation-construire-ou-requestionner-sa-strategie-commerciale-pour-developper-et-optimiser-ses-ventes-en-circuits-courts/
CATEGORIES:FORMATIONS
ATTACH;FMTTYPE=image/jpeg:https://adabio.com/wp-content/uploads/2025/10/Commercialisation-scaled.jpg
END:VEVENT
END:VCALENDAR