BEGIN:VCALENDAR
VERSION:2.0
PRODID:-//ADABio, pour le développement de l&#039;agriculture bio en Auvergne Rhône-Alpes - ECPv6.15.18//NONSGML v1.0//EN
CALSCALE:GREGORIAN
METHOD:PUBLISH
X-ORIGINAL-URL:https://adabio.com
X-WR-CALDESC:Évènements pour ADABio, pour le développement de l&#039;agriculture bio en Auvergne Rhône-Alpes
REFRESH-INTERVAL;VALUE=DURATION:PT1H
X-Robots-Tag:noindex
X-PUBLISHED-TTL:PT1H
BEGIN:VTIMEZONE
TZID:Europe/Helsinki
BEGIN:DAYLIGHT
TZOFFSETFROM:+0200
TZOFFSETTO:+0300
TZNAME:EEST
DTSTART:20240331T010000
END:DAYLIGHT
BEGIN:STANDARD
TZOFFSETFROM:+0300
TZOFFSETTO:+0200
TZNAME:EET
DTSTART:20241027T010000
END:STANDARD
BEGIN:DAYLIGHT
TZOFFSETFROM:+0200
TZOFFSETTO:+0300
TZNAME:EEST
DTSTART:20250330T010000
END:DAYLIGHT
BEGIN:STANDARD
TZOFFSETFROM:+0300
TZOFFSETTO:+0200
TZNAME:EET
DTSTART:20251026T010000
END:STANDARD
BEGIN:DAYLIGHT
TZOFFSETFROM:+0200
TZOFFSETTO:+0300
TZNAME:EEST
DTSTART:20260329T010000
END:DAYLIGHT
BEGIN:STANDARD
TZOFFSETFROM:+0300
TZOFFSETTO:+0200
TZNAME:EET
DTSTART:20261025T010000
END:STANDARD
END:VTIMEZONE
BEGIN:VEVENT
DTSTART;TZID=Europe/Helsinki:20251210T080000
DTEND;TZID=Europe/Helsinki:20251211T170000
DTSTAMP:20260419T174152
CREATED:20251021T091816Z
LAST-MODIFIED:20251021T091816Z
UID:4445-1765353600-1765472400@adabio.com
SUMMARY:[FORMATION] HOUBLON: FERTILITÉ DE SOLS ET GESTION DES COUVERTS VÉGÉTAUX
DESCRIPTION:[FORMATION] HOUBLON: FERTILITÉ DE SOLS ET GESTION DES COUVERTS VÉGÉTAUX \nDate :  Mercredi 10 et jeudi 11 décembre 2025 \nLieu : Saint Blaise du Buis  (38) \nObjectifs : \n\nConnaitre le fonctionnement et la fertilité de son sol\nDéterminer les services pouvant être rendu par les couverts végétaux pour améliorer la résilience du houblon face au changement climatique\nComprendre son analyse de sol pour gérer les apports organiques\nChoisir et conduire des couverts et engrais verts en fonction d’objectifs raisonnés.\n\nIntervenant : Julia Wright Agribiodrome \nInscriptions : ICI \nPlus d’information auprès de Julie VINAY : 06 26 54 42 37 / technique.viti@adabio.com  \n  \nRETROUVER NOTRE CATALOGUE COMPLET : ICI
URL:https://adabio.com/evenement/formation-houblon-fertilite-de-sols-et-gestion-des-couverts-vegetaux/
CATEGORIES:FORMATIONS
ATTACH;FMTTYPE=image/jpeg:https://adabio.com/wp-content/uploads/2025/10/ferti-sol-couvert-Houblon-2025-scaled.jpg
ORGANIZER;CN="ADABio":MAILTO:assistante@adabio.com
END:VEVENT
BEGIN:VEVENT
DTSTART;TZID=Europe/Helsinki:20251211T080000
DTEND;TZID=Europe/Helsinki:20251211T170000
DTSTAMP:20260419T174152
CREATED:20251021T085904Z
LAST-MODIFIED:20251021T085904Z
UID:4433-1765440000-1765472400@adabio.com
SUMMARY:[FORMATION] MISE EN PLACE ET GESTION DES ENGRAIS VERTS EN MARAICHAGE
DESCRIPTION:[FORMATION] MISE EN PLACE ET GESTION DES ENGRAIS VERTS EN MARAICHAGE \nDate :  Jeudi 11 décembre 2025 \nLieu : Annecy (74) \nObjectifs : \n\nConnaitre les différents engrais verts et leurs intérêts\nAdapter mes rotations et mes pratiques pour intégrer les bons engrais verts\n\nIntervenant : Stéphanie GAZEAU \nInscriptions : ICI \nPlus d’information auprès de Sophie BOMEL : 07 43 36 98 05 / technique.pv7374@adabio.com  \n  \nRETROUVER NOTRE CATALOGUE COMPLET : ICI
URL:https://adabio.com/evenement/formation-mise-en-place-et-gestion-des-engrais-verts-en-maraichage/
CATEGORIES:FORMATIONS
ATTACH;FMTTYPE=image/jpeg:https://adabio.com/wp-content/uploads/2025/10/EV.jpg
ORGANIZER;CN="ADABio":MAILTO:assistante@adabio.com
END:VEVENT
END:VCALENDAR