BEGIN:VCALENDAR
VERSION:2.0
PRODID:-//ADABio, pour le développement de l&#039;agriculture bio en Auvergne Rhône-Alpes - ECPv6.15.18//NONSGML v1.0//EN
CALSCALE:GREGORIAN
METHOD:PUBLISH
X-ORIGINAL-URL:https://adabio.com
X-WR-CALDESC:Évènements pour ADABio, pour le développement de l&#039;agriculture bio en Auvergne Rhône-Alpes
REFRESH-INTERVAL;VALUE=DURATION:PT1H
X-Robots-Tag:noindex
X-PUBLISHED-TTL:PT1H
BEGIN:VTIMEZONE
TZID:Europe/Helsinki
BEGIN:DAYLIGHT
TZOFFSETFROM:+0200
TZOFFSETTO:+0300
TZNAME:EEST
DTSTART:20250330T010000
END:DAYLIGHT
BEGIN:STANDARD
TZOFFSETFROM:+0300
TZOFFSETTO:+0200
TZNAME:EET
DTSTART:20251026T010000
END:STANDARD
BEGIN:DAYLIGHT
TZOFFSETFROM:+0200
TZOFFSETTO:+0300
TZNAME:EEST
DTSTART:20260329T010000
END:DAYLIGHT
BEGIN:STANDARD
TZOFFSETFROM:+0300
TZOFFSETTO:+0200
TZNAME:EET
DTSTART:20261025T010000
END:STANDARD
BEGIN:DAYLIGHT
TZOFFSETFROM:+0200
TZOFFSETTO:+0300
TZNAME:EEST
DTSTART:20270328T010000
END:DAYLIGHT
BEGIN:STANDARD
TZOFFSETFROM:+0300
TZOFFSETTO:+0200
TZNAME:EET
DTSTART:20271031T010000
END:STANDARD
END:VTIMEZONE
BEGIN:VEVENT
DTSTART;TZID=Europe/Helsinki:20260112T080000
DTEND;TZID=Europe/Helsinki:20260113T170000
DTSTAMP:20260419T163008
CREATED:20251021T100430Z
LAST-MODIFIED:20251021T103644Z
UID:4485-1768204800-1768323600@adabio.com
SUMMARY:[FORMATION] SANTÉ PAR LE TOUCHER EN ÉLEVAGE
DESCRIPTION:[FORMATION] SANTÉ PAR LE TOUCHER EN ÉLEVAGE \nDates : mercredi 26 et jeudi 27 novembre 2025\nlundi 12 et mardi 13 janvier 2026 \nLieu :Megève (74) \nObjectifs : \n\nApprendre à pratiquer la kinésiologie et le rééquilibrage des méridiens en utilisant le toucher sur les animaux.\nApprofondir sa pratique de la kinésiologie animalère.\n\nInscriptions : ICI \nIntervenant : Isabelle FRANZZETI\, vétérinaire spécialisée en kinésiologie et autres médecines alternatives \nPlus d’informations auprès d’Eve GENTIL : 06 26 54 31 71 / technique.pa38@adabio.com \nRETROUVER NOTRE CATALOGUE COMPLET : ICI
URL:https://adabio.com/evenement/formation-sante-par-le-toucher-en-elevage-2/
LOCATION:Haute-Savoie (74)
CATEGORIES:FORMATIONS
ATTACH;FMTTYPE=image/webp:https://adabio.com/wp-content/uploads/2025/10/Sante-par-le-toucher.webp
END:VEVENT
BEGIN:VEVENT
DTSTART;TZID=Europe/Helsinki:20260112T090000
DTEND;TZID=Europe/Helsinki:20260112T170000
DTSTAMP:20260419T163008
CREATED:20251006T134649Z
LAST-MODIFIED:20251021T103627Z
UID:4338-1768208400-1768237200@adabio.com
SUMMARY:[FORMATION] FAIRE SON COMPOST EN BOUT DE CHAMPS
DESCRIPTION:[FORMATION] FAIRE SON COMPOST EN BOUT DE CHAMPS \nDate :  Lundi 12 janvier 2026 \nLieu : à définir (dans l’Ain) \nObjectifs : \n\nConnaître le procédé pour réaliser un compost de qualité (et répondant à ma stratégie de fertilisation)\nConnaitre la réglementation pour une plateforme de ce type\nSavoir dimensionner ma production de compost en bout de champs sur ma ferme(matériels\, aménagements\, etc.)\n\nIntervenant : Marc DERELLE (Les Compagnons du Sol) \nInscriptions : ICI \nPlus d’information auprès de Sophie BOMEL : technique.pv7374@adabio.com / 07 43 36 98 05 \n  \nRETROUVER NOTRE CATALOGUE COMPLET : ICI
URL:https://adabio.com/evenement/formation-faire-son-compost-en-bout-de-champs/
LOCATION:Ain (01)
CATEGORIES:FORMATIONS
ATTACH;FMTTYPE=image/jpeg:https://adabio.com/wp-content/uploads/2025/10/COMPOST.jpg
END:VEVENT
END:VCALENDAR