BEGIN:VCALENDAR
VERSION:2.0
PRODID:-//ADABio, pour le développement de l&#039;agriculture bio en Auvergne Rhône-Alpes - ECPv6.15.18//NONSGML v1.0//EN
CALSCALE:GREGORIAN
METHOD:PUBLISH
X-ORIGINAL-URL:https://adabio.com
X-WR-CALDESC:Évènements pour ADABio, pour le développement de l&#039;agriculture bio en Auvergne Rhône-Alpes
REFRESH-INTERVAL;VALUE=DURATION:PT1H
X-Robots-Tag:noindex
X-PUBLISHED-TTL:PT1H
BEGIN:VTIMEZONE
TZID:Europe/Helsinki
BEGIN:DAYLIGHT
TZOFFSETFROM:+0200
TZOFFSETTO:+0300
TZNAME:EEST
DTSTART:20250330T010000
END:DAYLIGHT
BEGIN:STANDARD
TZOFFSETFROM:+0300
TZOFFSETTO:+0200
TZNAME:EET
DTSTART:20251026T010000
END:STANDARD
BEGIN:DAYLIGHT
TZOFFSETFROM:+0200
TZOFFSETTO:+0300
TZNAME:EEST
DTSTART:20260329T010000
END:DAYLIGHT
BEGIN:STANDARD
TZOFFSETFROM:+0300
TZOFFSETTO:+0200
TZNAME:EET
DTSTART:20261025T010000
END:STANDARD
BEGIN:DAYLIGHT
TZOFFSETFROM:+0200
TZOFFSETTO:+0300
TZNAME:EEST
DTSTART:20270328T010000
END:DAYLIGHT
BEGIN:STANDARD
TZOFFSETFROM:+0300
TZOFFSETTO:+0200
TZNAME:EET
DTSTART:20271031T010000
END:STANDARD
END:VTIMEZONE
BEGIN:VEVENT
DTSTART;TZID=Europe/Helsinki:20260123T080000
DTEND;TZID=Europe/Helsinki:20260123T170000
DTSTAMP:20260419T163009
CREATED:20251021T081228Z
LAST-MODIFIED:20251021T103505Z
UID:4427-1769155200-1769187600@adabio.com
SUMMARY:[FORMATION] ERGONOMIE\, GESTES ET POSTURES DANS LES OPÉRATIONS PHARES DE LA PRODUCTION DE PETITS FRUITS
DESCRIPTION:[FORMATION] ERGONOMIE\, GESTES ET POSTURES DANS LES OPÉRATIONS PHARES DE LA PRODUCTION DE PETITS FRUITS \nDate :  Vendredi 23 janvier 2026 \nLieu : Moirans (38) \nObjectifs : \n\nEtre capable de rendre son poste de travail ergonomique\nConnaître les bonnes postures sur les principales tâches manuelles en petits fruits\nSavoir réaliser les bons gestes\nIdentifier du matériel adapté à sa situation\n\nIntervenant : Stéphane MARTIGNAC\, formateur en petits fruits \nInscriptions : ICI \nPlus d’information auprès de Céline VENOT : 06 12 92 10 42 / technique.fruits@adabio.com \n  \nRETROUVER NOTRE CATALOGUE COMPLET : ICI
URL:https://adabio.com/evenement/formation-ergonomie-gestes-et-postures-dans-les-operations-phares-de-la-production-de-petits-fruits/
LOCATION:Isère (38)
CATEGORIES:FORMATIONS
ATTACH;FMTTYPE=image/jpeg:https://adabio.com/wp-content/uploads/2025/10/ERGOPF-scaled.jpg
ORGANIZER;CN="ADABio":MAILTO:assistante@adabio.com
END:VEVENT
END:VCALENDAR