BEGIN:VCALENDAR
VERSION:2.0
PRODID:-//ADABio, pour le développement de l&#039;agriculture bio en Auvergne Rhône-Alpes - ECPv6.15.18//NONSGML v1.0//EN
CALSCALE:GREGORIAN
METHOD:PUBLISH
X-WR-CALNAME:ADABio, pour le développement de l&#039;agriculture bio en Auvergne Rhône-Alpes
X-ORIGINAL-URL:https://adabio.com
X-WR-CALDESC:Évènements pour ADABio, pour le développement de l&#039;agriculture bio en Auvergne Rhône-Alpes
REFRESH-INTERVAL;VALUE=DURATION:PT1H
X-Robots-Tag:noindex
X-PUBLISHED-TTL:PT1H
BEGIN:VTIMEZONE
TZID:Europe/Helsinki
BEGIN:DAYLIGHT
TZOFFSETFROM:+0200
TZOFFSETTO:+0300
TZNAME:EEST
DTSTART:20250330T010000
END:DAYLIGHT
BEGIN:STANDARD
TZOFFSETFROM:+0300
TZOFFSETTO:+0200
TZNAME:EET
DTSTART:20251026T010000
END:STANDARD
BEGIN:DAYLIGHT
TZOFFSETFROM:+0200
TZOFFSETTO:+0300
TZNAME:EEST
DTSTART:20260329T010000
END:DAYLIGHT
BEGIN:STANDARD
TZOFFSETFROM:+0300
TZOFFSETTO:+0200
TZNAME:EET
DTSTART:20261025T010000
END:STANDARD
BEGIN:DAYLIGHT
TZOFFSETFROM:+0200
TZOFFSETTO:+0300
TZNAME:EEST
DTSTART:20270328T010000
END:DAYLIGHT
BEGIN:STANDARD
TZOFFSETFROM:+0300
TZOFFSETTO:+0200
TZNAME:EET
DTSTART:20271031T010000
END:STANDARD
END:VTIMEZONE
BEGIN:VEVENT
DTSTART;TZID=Europe/Helsinki:20260202T080000
DTEND;TZID=Europe/Helsinki:20260203T170000
DTSTAMP:20260419T150544
CREATED:20251021T080109Z
LAST-MODIFIED:20251021T103440Z
UID:4397-1770019200-1770138000@adabio.com
SUMMARY:[FORMATION] SE PERFECTIONNER ET S'ADAPTER AUX CHANGEMENTS CLIMATIQUES EN PRODUCTION DE FRUITS À PÉPINS
DESCRIPTION:[FORMATION] SE PERFECTIONNER ET S’ADAPTER AUX CHANGEMENTS CLIMATIQUES EN PRODUCTION DE FRUITS À PÉPINS \nDate :  Lundi 2 et mardi 3 février 2026 \nLieu : A définir (déplacement dans la région de Toulouse) \nObjectifs ; \n\nDécouvrir de nouvelles techniques en fruits à pépins (essais de producteurs\, résultats d’expérimentation)\nEtre capable de prendre du recul sur son système et sa saison\nSavoir identifier des leviers d’actions agronomiques\nEtre en mesure d’ajuster ses pratiques pour améliorer le fonctionnement de son verger\n\nIntervenants : Arboriculteur.rices de la région de Toulouse\, animateur.rices des structures bio locales \nInscriptions : ICI \nPlus d’information auprès de Céline VENOT : 06 12 92 10 42 / technique.fruits@adabio.com \n  \nRETROUVER NOTRE CATALOGUE COMPLET : ICI
URL:https://adabio.com/evenement/formation-se-perfectionner-et-sadapter-aux-changements-climatiques-en-production-de-fruits-a-pepins/
LOCATION:Haute-Garonne (31)
CATEGORIES:FORMATIONS
ATTACH;FMTTYPE=image/jpeg:https://adabio.com/wp-content/uploads/2025/10/VOYAGE-ETUDE-scaled.jpg
END:VEVENT
BEGIN:VEVENT
DTSTART;TZID=Europe/Helsinki:20260202T080000
DTEND;TZID=Europe/Helsinki:20260203T170000
DTSTAMP:20260419T150544
CREATED:20251021T101853Z
LAST-MODIFIED:20251021T102319Z
UID:4498-1770019200-1770138000@adabio.com
SUMMARY:[FORMATION] REPRODUIRE\, SÉLÉCTIONNER\, FAIRE NAÎTRE SES VOLAILES À LA FERME
DESCRIPTION:[FORMATION] REPRODUIRE\, SÉLÉCTIONNER\, FAIRE NAÎTRE SES VOLAILES À LA FERME \nDates : lundi 1er et mardi 2 décembre 2025 \nLieu : Puy de Dôme (63) – Voyage d’étude \nObjectifs : \nJ1 – Visite du GAEC Champ des Proyers – élevage bio sélectionnant et reproduisant des Gournay\, Marans\, Faverolles et Cou nu du Forez \n\nComprendre les principes de la sélection et de la reproduction des volailles\nSavoir mettre en oeuvre la sélection et la reproduction sur son élevage\nMaîtriser l’accouvage à la ferme\n\nJ2 : Visite de 2 élevages de volailles de chair et pondeuses bio résilients \n\nDécouvrir des pratiques d’élevages résilientes :\nFabrication d’aliment à la ferme\, élevage de poulettes bio\, poulaillers mobiles\, parcours sous vergers\nAtelier de réflexion individuelle puis de mise en commun sur des leviers envisageables à mettre en place sur sa ferme et des moyens nécessaires\n\nInscriptions : ICI \nIntervenant : Solenn BRIOUDE\, Animatrice élevage (volailles\, porcs\, caprins/ovins lait) Chercheurs en génétiques\, agronomie et nutrition animal de l’INRAE et eleveur.euse.s du Puy de Dôme\, membre du GIEE \nPlus d’informations auprès de Luna TERRIER : 06 26 54 31 71  \nRETROUVER NOTRE CATALOGUE COMPLET : ICI
URL:https://adabio.com/evenement/formation-reproduire-selectionner-faire-naitre-ses-volailes-a-la-ferme/
CATEGORIES:FORMATIONS
ATTACH;FMTTYPE=image/jpeg:https://adabio.com/wp-content/uploads/2025/10/volailles-voyage-etude-scaled.jpg
END:VEVENT
END:VCALENDAR