BEGIN:VCALENDAR
VERSION:2.0
PRODID:-//ADABio, pour le développement de l&#039;agriculture bio en Auvergne Rhône-Alpes - ECPv6.15.18//NONSGML v1.0//EN
CALSCALE:GREGORIAN
METHOD:PUBLISH
X-ORIGINAL-URL:https://adabio.com
X-WR-CALDESC:Évènements pour ADABio, pour le développement de l&#039;agriculture bio en Auvergne Rhône-Alpes
REFRESH-INTERVAL;VALUE=DURATION:PT1H
X-Robots-Tag:noindex
X-PUBLISHED-TTL:PT1H
BEGIN:VTIMEZONE
TZID:Europe/Helsinki
BEGIN:DAYLIGHT
TZOFFSETFROM:+0200
TZOFFSETTO:+0300
TZNAME:EEST
DTSTART:20250330T010000
END:DAYLIGHT
BEGIN:STANDARD
TZOFFSETFROM:+0300
TZOFFSETTO:+0200
TZNAME:EET
DTSTART:20251026T010000
END:STANDARD
BEGIN:DAYLIGHT
TZOFFSETFROM:+0200
TZOFFSETTO:+0300
TZNAME:EEST
DTSTART:20260329T010000
END:DAYLIGHT
BEGIN:STANDARD
TZOFFSETFROM:+0300
TZOFFSETTO:+0200
TZNAME:EET
DTSTART:20261025T010000
END:STANDARD
BEGIN:DAYLIGHT
TZOFFSETFROM:+0200
TZOFFSETTO:+0300
TZNAME:EEST
DTSTART:20270328T010000
END:DAYLIGHT
BEGIN:STANDARD
TZOFFSETFROM:+0300
TZOFFSETTO:+0200
TZNAME:EET
DTSTART:20271031T010000
END:STANDARD
END:VTIMEZONE
BEGIN:VEVENT
DTSTART;TZID=Europe/Helsinki:20260223T080000
DTEND;TZID=Europe/Helsinki:20260224T170000
DTSTAMP:20260421T133334
CREATED:20251021T075716Z
LAST-MODIFIED:20251021T103229Z
UID:4393-1771833600-1771952400@adabio.com
SUMMARY:[FORMATION] METTRE EN PLACE UN VERGER BIO SUR SA FERME EN FAVORISANT LA BIODIVERSITÉ DANS UN CONTEXTE DE CHANGEMENT CLIMATIQUE
DESCRIPTION:[FORMATION] METTRE EN PLACE UN VERGER BIO SUR SA FERME EN FAVORISANT LA BIODIVERSITÉ DANS UN CONTEXTE DE CHANGEMENT CLIMATIQUE \nDate :  Lundi 23 et mardi 24 février 2026 \nLieu : Renage (38) \nObjectifs : \n\nEtre en mesure de choisir une parcelle favorable à la production de fruits\nChoisir les espèces à introduire dans son système\nDéfinir les objectifs de son projet\nSavoir aménager sa parcelle (biodiversité\, équipement\, distance…)\nConnaître la conduite du verger\, les enjeux sanitaires\, et les leviers pour un verger robuste face au changement climatique\n\nIntervenant : Céline VENOT\, conseillère technique fruits ADABio \nInscriptions : ICI \nPlus d’information auprès de Céline VENOT : 06 12 92 10 42 / technique.fruits@adabio.com \n  \nRETROUVER NOTRE CATALOGUE COMPLET : ICI
URL:https://adabio.com/evenement/formation-mettre-en-place-un-verger-bio-sur-sa-ferme-en-favorisant-la-biodiversite-dans-un-contexte-de-changement-climatique/
LOCATION:Isère (38)
CATEGORIES:FORMATIONS
END:VEVENT
BEGIN:VEVENT
DTSTART;TZID=Europe/Helsinki:20260224T080000
DTEND;TZID=Europe/Helsinki:20260224T170000
DTSTAMP:20260421T133334
CREATED:20251021T090842Z
LAST-MODIFIED:20251021T103205Z
UID:4443-1771920000-1771952400@adabio.com
SUMMARY:[FORMATION] ORGANISATION DU TRAVAIL SUR SA FERME
DESCRIPTION:[FORMATION] ORGANISATION DU TRAVAIL SUR SA FERME \nDate :  Mardi 24 février 2026 \nLieu : A définir Nord Isère (38) \nObjectifs : \n\nAdapter son organisation du travail en fonction de l’année\nSavoir prioriser en fonction des taches\nAdapter ses itinéraires techniques en fonction des situations\n\nIntervenant : Cyril LORREARD (Maraicher AB) \nInscriptions : ICI \nPlus d’information auprès de Sophie BOMEL : 07 43 36 98 05 / technique.pv7374@adabio.com  \n  \nRETROUVER NOTRE CATALOGUE COMPLET : ICI
URL:https://adabio.com/evenement/formation-organisation-du-travail-sur-sa-ferme/
LOCATION:Isère (38)
CATEGORIES:FORMATIONS
ATTACH;FMTTYPE=image/jpeg:https://adabio.com/wp-content/uploads/2025/10/ORGA.jpg
ORGANIZER;CN="ADABio":MAILTO:assistante@adabio.com
END:VEVENT
BEGIN:VEVENT
DTSTART;TZID=Europe/Helsinki:20260224T080000
DTEND;TZID=Europe/Helsinki:20260225T170000
DTSTAMP:20260421T133334
CREATED:20251021T095219Z
LAST-MODIFIED:20251021T103134Z
UID:4464-1771920000-1772038800@adabio.com
SUMMARY:[FORMATION] APPROCHE TECHNICO-ÉCONOMIQUE EN GRANDES CULTURES ET RÉSULTATS TECHNICO-ÉCOS DE L'ABC EN GRANDES CULTURES
DESCRIPTION:[FORMATION] APPROCHE TECHNICO-ÉCONOMIQUE EN GRANDES CULTURES ET RÉSULTATS TECHNICO-ÉCOS DE L’ABC EN GRANDES CULTURES \nDate : Mardi 24 et mercredi 26 février 2026 \nLieu : à définir secteur Grand Annecy (74) \nObjectifs : \n\nConnaître les impacts économiques de ses choix techniques : calcul de la marge nette\, de la note STIR et des principaux indicateurs tech-écos en grandes cultures\, comparaison avec les références AB et ABC de Mayenne\nMise en lien avec les choix techniques\n\nIntervenant : Thomas QUEUNIET\, Agronome-Animateur – Grandes Cultures & Sol à CIVAMBIO 53 \nInscriptions : ICI \nPlus d’informations auprès de Eve GENTIL technique.pa7374@adabio.com / 06 21 69 09 80 \nRETROUVER NOTRE CATALOGUE COMPLET : ICI
URL:https://adabio.com/evenement/formation-approche-technico-economique-en-grandes-cultures-et-resultats-technico-ecos-de-labc-en-grandes-cultures/
LOCATION:Haute-Savoie (74)
CATEGORIES:FORMATIONS
ATTACH;FMTTYPE=image/png:https://adabio.com/wp-content/uploads/2025/10/Tech_eco-1.png
END:VEVENT
BEGIN:VEVENT
DTSTART;TZID=Europe/Helsinki:20260224T080000
DTEND;TZID=Europe/Helsinki:20260225T170000
DTSTAMP:20260421T133334
CREATED:20251021T102520Z
LAST-MODIFIED:20251021T102622Z
UID:4503-1771920000-1772038800@adabio.com
SUMMARY:[FORMATION] IMMUNITÉ ET SANTÉ GLOBALE DU TROUPEAU
DESCRIPTION:[FORMATION] IMMUNITÉ ET SANTÉ GLOBALE DU TROUPEAU \nDates : mardi 24 et mercredi 25 février 2026 \nLieu : Ceyzériat (01) \nObjectifs : \n\nComprendre les bases de la santé et de l’immunité sur le troupeau de ruminants\nComprendre leur physiologie et leurs besoins fondamentaux\nSavoir distinguer les facteurs de risque d’apparition de maladies et y remédier pour mettre en place des outils de prévention\nMieux connaître les plantes\, leurs préparations et leurs utilisations possibles en élevage\nConnaître le cadre règlementaire de l’utilisation des produits à base de plantes en élevage et savoir le respecter en bénéficiant des bienfaits des plantes\n\nInscriptions : ICI \nIntervenant : Lucile BROCHOT\, vétérinaire\, titulaire d’un DU Phytothérapie et Plantes médicinales\, formée en agroécologie \nPlus d’informations auprès de Luna TERRIER : 06 26 54 31 71 / technique.pa38@adabio.com \nRETROUVER NOTRE CATALOGUE COMPLET : ICI
URL:https://adabio.com/evenement/formation-bovins-immunite-et-sante-globale-du-troupeau/
LOCATION:Ain (01)
CATEGORIES:FORMATIONS
ATTACH;FMTTYPE=image/jpeg:https://adabio.com/wp-content/uploads/2025/10/Immunite-scaled.jpg
END:VEVENT
END:VCALENDAR