BEGIN:VCALENDAR
VERSION:2.0
PRODID:-//ADABio, pour le développement de l&#039;agriculture bio en Auvergne Rhône-Alpes - ECPv6.15.18//NONSGML v1.0//EN
CALSCALE:GREGORIAN
METHOD:PUBLISH
X-WR-CALNAME:ADABio, pour le développement de l&#039;agriculture bio en Auvergne Rhône-Alpes
X-ORIGINAL-URL:https://adabio.com
X-WR-CALDESC:Évènements pour ADABio, pour le développement de l&#039;agriculture bio en Auvergne Rhône-Alpes
REFRESH-INTERVAL;VALUE=DURATION:PT1H
X-Robots-Tag:noindex
X-PUBLISHED-TTL:PT1H
BEGIN:VTIMEZONE
TZID:Europe/Helsinki
BEGIN:DAYLIGHT
TZOFFSETFROM:+0200
TZOFFSETTO:+0300
TZNAME:EEST
DTSTART:20240331T010000
END:DAYLIGHT
BEGIN:STANDARD
TZOFFSETFROM:+0300
TZOFFSETTO:+0200
TZNAME:EET
DTSTART:20241027T010000
END:STANDARD
BEGIN:DAYLIGHT
TZOFFSETFROM:+0200
TZOFFSETTO:+0300
TZNAME:EEST
DTSTART:20250330T010000
END:DAYLIGHT
BEGIN:STANDARD
TZOFFSETFROM:+0300
TZOFFSETTO:+0200
TZNAME:EET
DTSTART:20251026T010000
END:STANDARD
BEGIN:DAYLIGHT
TZOFFSETFROM:+0200
TZOFFSETTO:+0300
TZNAME:EEST
DTSTART:20260329T010000
END:DAYLIGHT
BEGIN:STANDARD
TZOFFSETFROM:+0300
TZOFFSETTO:+0200
TZNAME:EET
DTSTART:20261025T010000
END:STANDARD
END:VTIMEZONE
BEGIN:VEVENT
DTSTART;TZID=Europe/Helsinki:20251014T180000
DTEND;TZID=Europe/Helsinki:20251014T193000
DTSTAMP:20260424T105832
CREATED:20251014T095245Z
LAST-MODIFIED:20251021T140147Z
UID:4376-1760464800-1760470200@adabio.com
SUMMARY:Soirée de Lancement 15ème Foire Bio des Pays de l'Ain
DESCRIPTION:
URL:https://adabio.com/evenement/soiree-de-lancement-15eme-foire-bio-des-pays-de-lain/
LOCATION:Ain (01)
CATEGORIES:FOIRE BIO
ATTACH;FMTTYPE=image/jpeg:https://adabio.com/wp-content/uploads/2025/09/A3_affiche-scaled.jpg
END:VEVENT
END:VCALENDAR